BEGIN:VCALENDAR
VERSION:2.0
PRODID:-//KIPP New Orleans Schools - ECPv6.15.20//NONSGML v1.0//EN
CALSCALE:GREGORIAN
METHOD:PUBLISH
X-ORIGINAL-URL:https://kippneworleans.org
X-WR-CALDESC:Events for KIPP New Orleans Schools
REFRESH-INTERVAL;VALUE=DURATION:PT1H
X-Robots-Tag:noindex
X-PUBLISHED-TTL:PT1H
BEGIN:VTIMEZONE
TZID:America/Chicago
BEGIN:DAYLIGHT
TZOFFSETFROM:-0600
TZOFFSETTO:-0500
TZNAME:CDT
DTSTART:20250309T080000
END:DAYLIGHT
BEGIN:STANDARD
TZOFFSETFROM:-0500
TZOFFSETTO:-0600
TZNAME:CST
DTSTART:20251102T070000
END:STANDARD
BEGIN:DAYLIGHT
TZOFFSETFROM:-0600
TZOFFSETTO:-0500
TZNAME:CDT
DTSTART:20260308T080000
END:DAYLIGHT
BEGIN:STANDARD
TZOFFSETFROM:-0500
TZOFFSETTO:-0600
TZNAME:CST
DTSTART:20261101T070000
END:STANDARD
BEGIN:DAYLIGHT
TZOFFSETFROM:-0600
TZOFFSETTO:-0500
TZNAME:CDT
DTSTART:20270314T080000
END:DAYLIGHT
BEGIN:STANDARD
TZOFFSETFROM:-0500
TZOFFSETTO:-0600
TZNAME:CST
DTSTART:20271107T070000
END:STANDARD
END:VTIMEZONE
BEGIN:VEVENT
DTSTART;TZID=America/Chicago:20260206T080000
DTEND;TZID=America/Chicago:20260206T133000
DTSTAMP:20260423T063346
CREATED:20260129T210221Z
LAST-MODIFIED:20260129T210221Z
UID:10000089-1770364800-1770384600@kippneworleans.org
SUMMARY:Early Release
DESCRIPTION:Early Release \nHigh School Students – 12:30pm \nPK-8 Students – 1:30pm
URL:https://kippneworleans.org/event/early-release/
END:VEVENT
BEGIN:VEVENT
DTSTART;TZID=America/Chicago:20260212T080000
DTEND;TZID=America/Chicago:20260212T133000
DTSTAMP:20260423T063346
CREATED:20260120T181256Z
LAST-MODIFIED:20260120T181524Z
UID:10000082-1770883200-1770903000@kippneworleans.org
SUMMARY:Teacher Professional PD (Early Release)
DESCRIPTION:Teacher Professional PD (Early Release) \nHigh School Students – 12:30pm \nPK-8 Students – 1:30pm
URL:https://kippneworleans.org/event/teacher-professional-pd-early-release-2/
END:VEVENT
BEGIN:VEVENT
DTSTART;VALUE=DATE:20260213
DTEND;VALUE=DATE:20260221
DTSTAMP:20260423T063346
CREATED:20250707T175121Z
LAST-MODIFIED:20260129T210604Z
UID:10000075-1770940800-1771631999@kippneworleans.org
SUMMARY:Mardi Gras Break - No School
DESCRIPTION:
URL:https://kippneworleans.org/event/mardi-gras-break-no-school/
END:VEVENT
END:VCALENDAR